BEGIN:VCALENDAR
VERSION:2.0
PRODID:-//Hoosier Fly Fishers - ECPv6.15.20//NONSGML v1.0//EN
CALSCALE:GREGORIAN
METHOD:PUBLISH
X-ORIGINAL-URL:https://www.hoosierflyfishers.com
X-WR-CALDESC:Events for Hoosier Fly Fishers
REFRESH-INTERVAL;VALUE=DURATION:PT1H
X-Robots-Tag:noindex
X-PUBLISHED-TTL:PT1H
BEGIN:VTIMEZONE
TZID:America/Indiana/Indianapolis
BEGIN:DAYLIGHT
TZOFFSETFROM:-0500
TZOFFSETTO:-0400
TZNAME:EDT
DTSTART:20230312T070000
END:DAYLIGHT
BEGIN:STANDARD
TZOFFSETFROM:-0400
TZOFFSETTO:-0500
TZNAME:EST
DTSTART:20231105T060000
END:STANDARD
BEGIN:DAYLIGHT
TZOFFSETFROM:-0500
TZOFFSETTO:-0400
TZNAME:EDT
DTSTART:20240310T070000
END:DAYLIGHT
BEGIN:STANDARD
TZOFFSETFROM:-0400
TZOFFSETTO:-0500
TZNAME:EST
DTSTART:20241103T060000
END:STANDARD
BEGIN:DAYLIGHT
TZOFFSETFROM:-0500
TZOFFSETTO:-0400
TZNAME:EDT
DTSTART:20250309T070000
END:DAYLIGHT
BEGIN:STANDARD
TZOFFSETFROM:-0400
TZOFFSETTO:-0500
TZNAME:EST
DTSTART:20251102T060000
END:STANDARD
END:VTIMEZONE
BEGIN:VEVENT
DTSTART;TZID=America/Indiana/Indianapolis:20240716T180000
DTEND;TZID=America/Indiana/Indianapolis:20240716T210000
DTSTAMP:20260422T225134
CREATED:20240714T184337Z
LAST-MODIFIED:20240714T184337Z
UID:3577-1721152800-1721163600@www.hoosierflyfishers.com
SUMMARY:July 2024 HFF Meeting
DESCRIPTION:The next meeting of the Hoosier Fly Fishers will be this coming Tuesday July 16th\, 1again we will be meeting at the Legion Hall. Dinner at 6:00 and the program at 7:00. Hope you are all able to join us and share some wonderfully true tales about your summer fishing adventures. \nThe program this moth will feature Justin Swafford tying sohers for only $17.99. Looking forward to watching Justin tie some flies. 
URL:https://www.hoosierflyfishers.com/event/july-2024-hff-meeting/
LOCATION:Bloomington American Legion Post 18\, 1800 W 3rd Street\, Bloomington\, Indiana\, 47404
CATEGORIES:Monthly Meetings,Monthly Meetings 2024
END:VEVENT
BEGIN:VEVENT
DTSTART;TZID=America/Indiana/Indianapolis:20240618T060000
DTEND;TZID=America/Indiana/Indianapolis:20240618T210000
DTSTAMP:20260422T225134
CREATED:20240617T165519Z
LAST-MODIFIED:20240617T165519Z
UID:3564-1718690400-1718744400@www.hoosierflyfishers.com
SUMMARY:June 2024 HFF Meeting
DESCRIPTION:I do hope we have all managed to squeeze in a bit of fishing these daze. The next meeting of the Hoosier t Fly Fishers will again be meeting the Legion. Dinner will be at 6:00 and the program will be a 7:00.\nWe will start with a round table for you all to brag about all the fish you have been catching.\n \nThe program this month will be a presentation by Marty James. Marty will  be discussing all things about fly fishing for carp. Bring questions\, this is going to be fun.\n \nThere will also be a fly tying demo.
URL:https://www.hoosierflyfishers.com/event/june-2024-hff-meeting/
LOCATION:Bloomington American Legion Post 18\, 1800 W 3rd Street\, Bloomington\, Indiana\, 47404
CATEGORIES:Monthly Meetings,Monthly Meetings 2024
END:VEVENT
BEGIN:VEVENT
DTSTART;TZID=America/Indiana/Indianapolis:20240511T110000
DTEND;TZID=America/Indiana/Indianapolis:20240511T150000
DTSTAMP:20260422T225134
CREATED:20240319T011656Z
LAST-MODIFIED:20240509T020107Z
UID:3539-1715425200-1715439600@www.hoosierflyfishers.com
SUMMARY:May 2024 HFF Annual Picnic
DESCRIPTION:Once again the picnic will be held at the Clarkes House on Lake Lemon\, May 11th. Good fun\, good food\, good fishing and good fellowship. Starts at 11:00 AM\, eat about noonish. The club will provide burgers and hotdogs\, buns\, chips and soft drinks. We will all bring a side dish to round out the feast. BYO adult beverages.  Please let Barry know if you are planning on attending so he can have enough food\, RSVP barry.clarke@comcast.net. \nAs you well know there are fish in Lake Lemon so bring a rod and a couple of flies and catch a few Bluegills to brag about. A day of food\, fun \, fish and fellowship.   Who could ask for more…\n 
URL:https://www.hoosierflyfishers.com/event/may-2024-hff-annual-picnic/
LOCATION:Clarkes\, 8851 East South Shore Drive\, Unionville\, IN\, 47468
CATEGORIES:Monthly Meetings,Monthly Meetings 2024
END:VEVENT
BEGIN:VEVENT
DTSTART;TZID=America/Indiana/Indianapolis:20240416T180000
DTEND;TZID=America/Indiana/Indianapolis:20240416T210000
DTSTAMP:20260422T225134
CREATED:20240319T011036Z
LAST-MODIFIED:20240319T011036Z
UID:3537-1713290400-1713301200@www.hoosierflyfishers.com
SUMMARY:April 2024 HFF Meeting
DESCRIPTION:The April meeting will feature the Annual HFF Auction of good  stuff with the renowned Kernal Kevin at the helm. Bring stuff and bring cash. Take stuff home.
URL:https://www.hoosierflyfishers.com/event/april-2024-hff-meeting/
LOCATION:Bloomington American Legion Post 18\, 1800 W 3rd Street\, Bloomington\, Indiana\, 47404
CATEGORIES:Monthly Meetings,Monthly Meetings 2024
END:VEVENT
BEGIN:VEVENT
DTSTART;TZID=America/Indiana/Indianapolis:20240319T180000
DTEND;TZID=America/Indiana/Indianapolis:20240319T210000
DTSTAMP:20260422T225134
CREATED:20240319T010704Z
LAST-MODIFIED:20240319T010704Z
UID:3535-1710871200-1710882000@www.hoosierflyfishers.com
SUMMARY:March 2024 HFF Meeting
DESCRIPTION:The next meeting of the Hoosier Fly Fishers will be March 19th.  As always\, we will meet at the American Legion on 3rd street. Dinner at 6:00 and th program will start at 7:00. \nPrograms will be : \nKyle Swafford — Navigable\,  Non- Navigable \nKevin Montague — Getting ready for Spring fishing. \nJasper Osmon — Fly Tying
URL:https://www.hoosierflyfishers.com/event/march-2024-hff-meeting/
LOCATION:Bloomington American Legion Post 18\, 1800 W 3rd Street\, Bloomington\, Indiana\, 47404
CATEGORIES:Monthly Meetings,Monthly Meetings 2024
END:VEVENT
BEGIN:VEVENT
DTSTART;TZID=America/Indiana/Indianapolis:20240220T180000
DTEND;TZID=America/Indiana/Indianapolis:20240220T210000
DTSTAMP:20260422T225134
CREATED:20240218T164856Z
LAST-MODIFIED:20240218T165104Z
UID:3520-1708452000-1708462800@www.hoosierflyfishers.com
SUMMARY:February 2024 HFF Meeting
DESCRIPTION:The next meeting of the HFF will be on February 20th. Again we will meet at the American Legion. Dinner at 6:00 and program at 7:00.  \nThe program this month will be ”Whats My Line” a presentation lead by Kyle Swafford.  Again this month we will be treated to a fly tying demo by Mike Donovan. Mike will be tying Whitlock’s Red Fox Squirrel Tail Nymph. \nWe will be having a bit of a discussion on the idea of a tying  class\, advanced or beginning or one of each… \nDon’t forget March 31st your fishing license is due for renewal.
URL:https://www.hoosierflyfishers.com/event/february-2024-hff-meeting/
LOCATION:Bloomington American Legion Post 18\, 1800 W 3rd Street\, Bloomington\, Indiana\, 47404
CATEGORIES:Monthly Meetings,Monthly Meetings 2024
END:VEVENT
BEGIN:VEVENT
DTSTART;TZID=America/Indiana/Indianapolis:20240116T180000
DTEND;TZID=America/Indiana/Indianapolis:20240116T210000
DTSTAMP:20260422T225134
CREATED:20231118T201947Z
LAST-MODIFIED:20231118T201947Z
UID:3490-1705428000-1705438800@www.hoosierflyfishers.com
SUMMARY:January 2024 HFF Meeting
DESCRIPTION:January Meeting:  January 16th\, 2024. Albert White will be joining us for the January Meeting to discuss Indiana smallmouth bass fishing. More details to follow.
URL:https://www.hoosierflyfishers.com/event/january-2024-hff-meeting/
LOCATION:Bloomington American Legion Post 18\, 1800 W 3rd Street\, Bloomington\, Indiana\, 47404
CATEGORIES:Monthly Meetings 2024
END:VEVENT
END:VCALENDAR